BEGIN:VCALENDAR
VERSION:2.0
PRODID:-//The INFINITY Science Center - ECPv6.15.20//NONSGML v1.0//EN
CALSCALE:GREGORIAN
METHOD:PUBLISH
X-WR-CALNAME:The INFINITY Science Center
X-ORIGINAL-URL:https://www.visitinfinity.com
X-WR-CALDESC:Events for The INFINITY Science Center
REFRESH-INTERVAL;VALUE=DURATION:PT1H
X-Robots-Tag:noindex
X-PUBLISHED-TTL:PT1H
BEGIN:VTIMEZONE
TZID:UTC
BEGIN:STANDARD
TZOFFSETFROM:+0000
TZOFFSETTO:+0000
TZNAME:UTC
DTSTART:20230101T000000
END:STANDARD
END:VTIMEZONE
BEGIN:VEVENT
DTSTART;TZID=UTC:20240420T090000
DTEND;TZID=UTC:20240420T120000
DTSTAMP:20260420T084357
CREATED:20240318T213910Z
LAST-MODIFIED:20240318T213957Z
UID:9422-1713603600-1713614400@www.visitinfinity.com
SUMMARY:Scout Eco Day
DESCRIPTION:Calling scouts of all ages! INFINITY Science Center is pleased to announce Scout Ecology Day. Come learn about Earth\, ecosystems\, and how they all work together. We’ll have hands-on activities throughout the museum!
URL:https://www.visitinfinity.com/event-info/scout-eco-day-2/
LOCATION:INFINITY Science Center
ORGANIZER;CN="Donna Torres":MAILTO:dtorres@visitinfinity.com
END:VEVENT
END:VCALENDAR