BEGIN:VCALENDAR
VERSION:2.0
PRODID:-//The INFINITY Science Center - ECPv6.15.20//NONSGML v1.0//EN
CALSCALE:GREGORIAN
METHOD:PUBLISH
X-ORIGINAL-URL:https://www.visitinfinity.com
X-WR-CALDESC:Events for The INFINITY Science Center
REFRESH-INTERVAL;VALUE=DURATION:PT1H
X-Robots-Tag:noindex
X-PUBLISHED-TTL:PT1H
BEGIN:VTIMEZONE
TZID:UTC
BEGIN:STANDARD
TZOFFSETFROM:+0000
TZOFFSETTO:+0000
TZNAME:UTC
DTSTART:20230101T000000
END:STANDARD
END:VTIMEZONE
BEGIN:VEVENT
DTSTART;TZID=UTC:20240601T100000
DTEND;TZID=UTC:20240601T140000
DTSTAMP:20260420T050737
CREATED:20240318T235157Z
LAST-MODIFIED:20240318T235157Z
UID:9440-1717236000-1717250400@www.visitinfinity.com
SUMMARY:INFINIcon
DESCRIPTION:INFINIcon 2024\nJune 1\, 2024 10:00 A.M. to 2:00 P.M. \nJoin us for an unforgettable experience at INFINIcon 2024\, celebrating the realms of science\, sci-fi\, and fantasy at the INFINITY Science Center! Meet renowned rocket scientists\, explore our diverse array of vendors\, encounter robots\, and mingle with costumed characters. Expect the unexpected as you immerse yourself in a world where anything can happen. Food trucks will be on-site to satisfy your cravings. Feel free to come dressed in your favorite family-friendly costumes\, and let your imagination soar! \nAdmission: \n\nAdult (14-54): $15\nChild (4-10): $10\nSenior (55+): $13\nMilitary: $13\nFirst Responder: $13\nChild 3 and under: Free\nMembers: $9\n\nFor groups of 20 or more\, please contact ksmith@visitinfinity.com for special pricing and reservations. \nCostume Props Policy: \nTo ensure a safe and enjoyable experience for all attendees\, please adhere to the following guidelines: \n\nNo weapons or functional props are permitted at INFINIcon. All simulated or costume weapons must undergo inspection upon entry.\nCostume props and weapons must comply with state and federal law.\nProjectile costume props and weapons must be rendered inoperable.\nFunctional (real) arrows must have their tips removed and be bundled together\, then zip-tied to a quiver.\nCostume swords\, daggers\, staffs\, and/or sticks must be securely fastened to your costume to prevent them from being drawn.\nCostumes featuring stilts must receive approval at the ticket counter.\nINFINITY will not be held liable for any injuries or harm resulting from guest interactions with weapons or costumes.\n\nWe look forward to seeing you at INFINIcon 2024\, where imagination knows no bounds!
URL:https://www.visitinfinity.com/event-info/infinicon-2/
LOCATION:INFINITY Science Center
ORGANIZER;CN="Alex Wenyon":MAILTO:awenyon@visitinfinity.com
END:VEVENT
END:VCALENDAR