BEGIN:VCALENDAR
VERSION:2.0
PRODID:-//The INFINITY Science Center - ECPv6.15.20//NONSGML v1.0//EN
CALSCALE:GREGORIAN
METHOD:PUBLISH
X-WR-CALNAME:The INFINITY Science Center
X-ORIGINAL-URL:https://www.visitinfinity.com
X-WR-CALDESC:Events for The INFINITY Science Center
REFRESH-INTERVAL;VALUE=DURATION:PT1H
X-Robots-Tag:noindex
X-PUBLISHED-TTL:PT1H
BEGIN:VTIMEZONE
TZID:UTC
BEGIN:STANDARD
TZOFFSETFROM:+0000
TZOFFSETTO:+0000
TZNAME:UTC
DTSTART:20230101T000000
END:STANDARD
END:VTIMEZONE
BEGIN:VEVENT
DTSTART;TZID=UTC:20240629T130000
DTEND;TZID=UTC:20240629T150000
DTSTAMP:20260420T050703
CREATED:20240318T234447Z
LAST-MODIFIED:20240429T200847Z
UID:9438-1719666000-1719673200@www.visitinfinity.com
SUMMARY:INFINITY Independents + Acton Children’s Business Fair
DESCRIPTION:INFINITY Independents + Acton Children’s Business Fair\ninvites you to join us for our biannual Children’s Business Fair on June 29th\, 2024\, from 1:00 PM to 3:00 PM. \nThis one-day marketplace sparks the entrepreneurial spirit in children\, giving them the chance to showcase their own businesses and sell their products. If your child loves to create\, learn new skills\, and solve problems\, this event is perfect for them! Whether they’re selling lemonade\, bracelets\, artwork\, or anything else\, it’s an opportunity for them to shine. \nSign your kids up and come enjoy a day filled with youthful innovation and entrepreneurial excitement! \nApply
URL:https://www.visitinfinity.com/event-info/infinity-independents-acton-childrens-business-fair/
LOCATION:INFINITY Science Center
ORGANIZER;CN="Alex Wenyon":MAILTO:awenyon@visitinfinity.com
END:VEVENT
END:VCALENDAR