BEGIN:VCALENDAR
VERSION:2.0
PRODID:-//The INFINITY Science Center - ECPv6.15.20//NONSGML v1.0//EN
CALSCALE:GREGORIAN
METHOD:PUBLISH
X-ORIGINAL-URL:https://www.visitinfinity.com
X-WR-CALDESC:Events for The INFINITY Science Center
REFRESH-INTERVAL;VALUE=DURATION:PT1H
X-Robots-Tag:noindex
X-PUBLISHED-TTL:PT1H
BEGIN:VTIMEZONE
TZID:America/Chicago
BEGIN:DAYLIGHT
TZOFFSETFROM:-0600
TZOFFSETTO:-0500
TZNAME:CDT
DTSTART:20230312T080000
END:DAYLIGHT
BEGIN:STANDARD
TZOFFSETFROM:-0500
TZOFFSETTO:-0600
TZNAME:CST
DTSTART:20231105T070000
END:STANDARD
BEGIN:DAYLIGHT
TZOFFSETFROM:-0600
TZOFFSETTO:-0500
TZNAME:CDT
DTSTART:20240310T080000
END:DAYLIGHT
BEGIN:STANDARD
TZOFFSETFROM:-0500
TZOFFSETTO:-0600
TZNAME:CST
DTSTART:20241103T070000
END:STANDARD
BEGIN:DAYLIGHT
TZOFFSETFROM:-0600
TZOFFSETTO:-0500
TZNAME:CDT
DTSTART:20250309T080000
END:DAYLIGHT
BEGIN:STANDARD
TZOFFSETFROM:-0500
TZOFFSETTO:-0600
TZNAME:CST
DTSTART:20251102T070000
END:STANDARD
END:VTIMEZONE
BEGIN:VEVENT
DTSTART;VALUE=DATE:20241008
DTEND;VALUE=DATE:20241009
DTSTAMP:20260419T220323
CREATED:20240730T183947Z
LAST-MODIFIED:20240730T183947Z
UID:10537-1728345600-1728431999@www.visitinfinity.com
SUMMARY:Moon Lights the Way – ISC OUTREACH STEM
DESCRIPTION:Moon Lights the Way  – Sponsored by NASA TEAM II Community Anchor Grant\nExplore the moon and how it will guide the way to future space exploration. Led by INFINITY Science Center educators\, this two-hour\, hands-on program for families with children ages 7-11 includes engaging activities and informative content.  |  Pass Christian Library \nContact your local library for registration information and time. All sessions are free!
URL:https://www.visitinfinity.com/event-info/moon-lights-the-way-isc-outreach-stem-5/
LOCATION:Pass Christian Library\, 111 Hiern Ave\, Pass Christian\, MS\, 39571\, United States
ORGANIZER;CN="Donna Torres":MAILTO:dtorres@visitinfinity.com
END:VEVENT
END:VCALENDAR