BEGIN:VCALENDAR
VERSION:2.0
PRODID:-//The INFINITY Science Center - ECPv6.15.20//NONSGML v1.0//EN
CALSCALE:GREGORIAN
METHOD:PUBLISH
X-WR-CALNAME:The INFINITY Science Center
X-ORIGINAL-URL:https://www.visitinfinity.com
X-WR-CALDESC:Events for The INFINITY Science Center
REFRESH-INTERVAL;VALUE=DURATION:PT1H
X-Robots-Tag:noindex
X-PUBLISHED-TTL:PT1H
BEGIN:VTIMEZONE
TZID:America/Chicago
BEGIN:DAYLIGHT
TZOFFSETFROM:-0600
TZOFFSETTO:-0500
TZNAME:CDT
DTSTART:20230312T080000
END:DAYLIGHT
BEGIN:STANDARD
TZOFFSETFROM:-0500
TZOFFSETTO:-0600
TZNAME:CST
DTSTART:20231105T070000
END:STANDARD
BEGIN:DAYLIGHT
TZOFFSETFROM:-0600
TZOFFSETTO:-0500
TZNAME:CDT
DTSTART:20240310T080000
END:DAYLIGHT
BEGIN:STANDARD
TZOFFSETFROM:-0500
TZOFFSETTO:-0600
TZNAME:CST
DTSTART:20241103T070000
END:STANDARD
BEGIN:DAYLIGHT
TZOFFSETFROM:-0600
TZOFFSETTO:-0500
TZNAME:CDT
DTSTART:20250309T080000
END:DAYLIGHT
BEGIN:STANDARD
TZOFFSETFROM:-0500
TZOFFSETTO:-0600
TZNAME:CST
DTSTART:20251102T070000
END:STANDARD
END:VTIMEZONE
BEGIN:VEVENT
DTSTART;TZID=America/Chicago:20241030T090000
DTEND;TZID=America/Chicago:20241030T120000
DTSTAMP:20260419T200959
CREATED:20240730T143334Z
LAST-MODIFIED:20240920T143019Z
UID:10494-1730278800-1730289600@www.visitinfinity.com
SUMMARY:HomeSchool Wednesdays - Edison\, Tesla\, and More!
DESCRIPTION:Explore our engaging and educational HomeSchool Wednesdays for the 2024/25 school year! Each session is designed to offer hands-on STEM learning experiences that captivate and inspire young minds. \nOctober 30\, 2024\, 9:00 a.m. to 12:00 p.m.: Edison\, Tesla\, and More!\nExplore the innovations of Thomas Edison and Nikola Tesla. Learn about their revolutionary inventions and their impact on electrical engineering and technology. \nLab Information: Circuit Lab\nHome School Wednesday Learning Lab for ages 12-15\nIn this 45-minute lab\, students will engage in the science and engineering practice of making observations as they use batteries\, wires\, small light bulbs\, and more to explore the phenomenon of electricity and learn the difference between an open circuit and a closed circuit. The Exploration Lab starts promptly at 10:00 a.m. \nRegister Now! \n  \nCheck out the other HomeSchool Wednesdays for 2024/25!
URL:https://www.visitinfinity.com/event-info/homeschool-wednesdays-edison-tesla-and-more/
LOCATION:INFINITY Science Center
CATEGORIES:HomeSchool Wednesday
ORGANIZER;CN="Donna Torres":MAILTO:dtorres@visitinfinity.com
END:VEVENT
END:VCALENDAR