BEGIN:VCALENDAR
VERSION:2.0
PRODID:-//The INFINITY Science Center - ECPv6.15.20//NONSGML v1.0//EN
CALSCALE:GREGORIAN
METHOD:PUBLISH
X-ORIGINAL-URL:https://www.visitinfinity.com
X-WR-CALDESC:Events for The INFINITY Science Center
REFRESH-INTERVAL;VALUE=DURATION:PT1H
X-Robots-Tag:noindex
X-PUBLISHED-TTL:PT1H
BEGIN:VTIMEZONE
TZID:America/Chicago
BEGIN:DAYLIGHT
TZOFFSETFROM:-0600
TZOFFSETTO:-0500
TZNAME:CDT
DTSTART:20230312T080000
END:DAYLIGHT
BEGIN:STANDARD
TZOFFSETFROM:-0500
TZOFFSETTO:-0600
TZNAME:CST
DTSTART:20231105T070000
END:STANDARD
BEGIN:DAYLIGHT
TZOFFSETFROM:-0600
TZOFFSETTO:-0500
TZNAME:CDT
DTSTART:20240310T080000
END:DAYLIGHT
BEGIN:STANDARD
TZOFFSETFROM:-0500
TZOFFSETTO:-0600
TZNAME:CST
DTSTART:20241103T070000
END:STANDARD
BEGIN:DAYLIGHT
TZOFFSETFROM:-0600
TZOFFSETTO:-0500
TZNAME:CDT
DTSTART:20250309T080000
END:DAYLIGHT
BEGIN:STANDARD
TZOFFSETFROM:-0500
TZOFFSETTO:-0600
TZNAME:CST
DTSTART:20251102T070000
END:STANDARD
END:VTIMEZONE
BEGIN:VEVENT
DTSTART;TZID=America/Chicago:20241123T010000
DTEND;TZID=America/Chicago:20241123T030000
DTSTAMP:20260419T220317
CREATED:20240926T151820Z
LAST-MODIFIED:20240926T152341Z
UID:10955-1732323600-1732330800@www.visitinfinity.com
SUMMARY:INFINITY Independents + Acton Children’s Business Fair
DESCRIPTION:INFINITY Independents + Acton Children’s Business Fair\nWe invite you to join us for our biannual Children’s Business Fair on November 23rd\, 2024\, from 1:00 PM to 3:00 PM. \nThis one-day marketplace ignites the entrepreneurial spirit in children\, giving them the chance to showcase their own businesses and sell their products. If your child loves to create\, learn new skills\, and solve problems\, this event is perfect for them! Whether they’re selling lemonade\, bracelets\, artwork\, or anything else\, it’s an opportunity for them to shine. \nFor more info or to apply your child\, visit the link below! \nApply!  \n 
URL:https://www.visitinfinity.com/event-info/infinity-independents-acton-childrens-business-fair-2/
LOCATION:INFINITY Science Center
ORGANIZER;CN="Alex Wenyon":MAILTO:awenyon@visitinfinity.com
END:VEVENT
END:VCALENDAR