BEGIN:VCALENDAR
VERSION:2.0
PRODID:-//The INFINITY Science Center - ECPv6.15.20//NONSGML v1.0//EN
CALSCALE:GREGORIAN
METHOD:PUBLISH
X-WR-CALNAME:The INFINITY Science Center
X-ORIGINAL-URL:https://www.visitinfinity.com
X-WR-CALDESC:Events for The INFINITY Science Center
REFRESH-INTERVAL;VALUE=DURATION:PT1H
X-Robots-Tag:noindex
X-PUBLISHED-TTL:PT1H
BEGIN:VTIMEZONE
TZID:America/Chicago
BEGIN:DAYLIGHT
TZOFFSETFROM:-0600
TZOFFSETTO:-0500
TZNAME:CDT
DTSTART:20240310T080000
END:DAYLIGHT
BEGIN:STANDARD
TZOFFSETFROM:-0500
TZOFFSETTO:-0600
TZNAME:CST
DTSTART:20241103T070000
END:STANDARD
BEGIN:DAYLIGHT
TZOFFSETFROM:-0600
TZOFFSETTO:-0500
TZNAME:CDT
DTSTART:20250309T080000
END:DAYLIGHT
BEGIN:STANDARD
TZOFFSETFROM:-0500
TZOFFSETTO:-0600
TZNAME:CST
DTSTART:20251102T070000
END:STANDARD
BEGIN:DAYLIGHT
TZOFFSETFROM:-0600
TZOFFSETTO:-0500
TZNAME:CDT
DTSTART:20260308T080000
END:DAYLIGHT
BEGIN:STANDARD
TZOFFSETFROM:-0500
TZOFFSETTO:-0600
TZNAME:CST
DTSTART:20261101T070000
END:STANDARD
END:VTIMEZONE
BEGIN:VEVENT
DTSTART;TZID=America/Chicago:20250312T090000
DTEND;TZID=America/Chicago:20250312T120000
DTSTAMP:20260419T124225
CREATED:20240730T144251Z
LAST-MODIFIED:20250219T173518Z
UID:10498-1741770000-1741780800@www.visitinfinity.com
SUMMARY:HomeSchool Wednesday - Linnaeus\, Wallace\, and More
DESCRIPTION:Explore our engaging and educational HomeSchool Wednesdays for the 2024/25 school year! Each session is designed to offer hands-on STEM learning experiences that captivate and inspire young minds! \nMarch 12\, 2025\, 9:00 a.m. to 12:00 p.m.: Linnaeus\, Wallace\, and More. Investigate the work of Carl Linnaeus and Alfred Russel Wallace. Understand their influence on biology and evolutionary theory\, and see how their discoveries continue to inform modern science. \nLab Information: Animal Architects Lab \nCome explore the fascinating world of animal builders and discover the unique structures they create in nature! Through a hands-on activity\, we’ll take a closer look at these master engineers and learn how they construct shelters to protect themselves from the elements and predators. \n\nLocation: Innovation Center (Second Floor)\nAges: 12-15\nTime: 10:00 AM\nCost: $5\nRegister: https://form.jotform.com/250493903561155\n\n  \nJoin us for this engaging lab and uncover the secrets of nature’s best architects!
URL:https://www.visitinfinity.com/event-info/homeschool-wednesday/
LOCATION:INFINITY Science Center
CATEGORIES:HomeSchool Wednesday
ORGANIZER;CN="Donna Torres":MAILTO:dtorres@visitinfinity.com
END:VEVENT
END:VCALENDAR