BEGIN:VCALENDAR
VERSION:2.0
PRODID:-//The INFINITY Science Center - ECPv6.15.20//NONSGML v1.0//EN
CALSCALE:GREGORIAN
METHOD:PUBLISH
X-WR-CALNAME:The INFINITY Science Center
X-ORIGINAL-URL:https://www.visitinfinity.com
X-WR-CALDESC:Events for The INFINITY Science Center
REFRESH-INTERVAL;VALUE=DURATION:PT1H
X-Robots-Tag:noindex
X-PUBLISHED-TTL:PT1H
BEGIN:VTIMEZONE
TZID:UTC
BEGIN:STANDARD
TZOFFSETFROM:+0000
TZOFFSETTO:+0000
TZNAME:UTC
DTSTART:20230101T000000
END:STANDARD
END:VTIMEZONE
BEGIN:VEVENT
DTSTART;TZID=UTC:20240302T090000
DTEND;TZID=UTC:20240302T120000
DTSTAMP:20260420T084429
CREATED:20240206T023421Z
LAST-MODIFIED:20240206T023421Z
UID:9271-1709370000-1709380800@www.visitinfinity.com
SUMMARY:STEM FEST
DESCRIPTION:STEM FEST\nAs recipients of the NASA TEAMS II Community Anchor award\, INFINITY Science Center invites you and your family to join us for STEM FEST – a free event providing a unique opportunity to immerse yourselves in the wonders of STEM. Engage in captivating science demonstrations\, participate in NASA STEM activities\, and embark on an exploration adventure tailored for a memorable family Saturday outing. \nDate: Saturday\, March 2 Time: 9:00 AM to 12:00 PM \nNo pre-registration required. \nCome and discover the excitement of STEM with us!
URL:https://www.visitinfinity.com/event-info/stem-fest/
LOCATION:INFINITY Science Center
ORGANIZER;CN="Donna Torres":MAILTO:dtorres@visitinfinity.com
END:VEVENT
BEGIN:VEVENT
DTSTART;TZID=UTC:20240302T130000
DTEND;TZID=UTC:20240302T150000
DTSTAMP:20260420T084429
CREATED:20230121T025035Z
LAST-MODIFIED:20240103T002621Z
UID:7880-1709384400-1709391600@www.visitinfinity.com
SUMMARY:Rocketry Lab
DESCRIPTION:3…2…1. Blast off!\nINFINITY Science Center will be hosting our annual Rocketry\nLab on March 2\, 2024 from 1:00 P.M. to 3:00 P.M. \nJoin INFINITY’s Education team as they guide you through the process of building\nand launching a model rocket. During the class you’ll learn about the physics\nbehind rocketry! Then it’s the moment the class has been “building” to…\nIt’s time to launch! How high will it go? There’s only one way to find out!\nSpace is limited so reserve your spot today at the link below! \nRocketry Lab is a class for families with children ages 6 and over! \nPricing:\nBuilder: $40\nNon-Builder: $20 \nhttps://form.123formbuilder.com/6576481/iscrocketrylab \n 
URL:https://www.visitinfinity.com/event-info/rocketry-lab/
LOCATION:INFINITY Science Center
ORGANIZER;CN="Donna Torres":MAILTO:dtorres@visitinfinity.com
END:VEVENT
BEGIN:VEVENT
DTSTART;TZID=UTC:20240302T130000
DTEND;TZID=UTC:20240302T160000
DTSTAMP:20260420T084429
CREATED:20240130T021329Z
LAST-MODIFIED:20240130T025723Z
UID:9099-1709384400-1709395200@www.visitinfinity.com
SUMMARY:STrEaM'in the Coast
DESCRIPTION:Get ready for the inaugural STrEaM’in the Coast: A Family-Friendly STEM Extravaganza! Join us for an engaging event where learning meets excitement in a vibrant block party atmosphere. Unleash curiosity in your kids and ignite a passion for STEM with our unique blend of Science\, Technology\, Recreation\, Engineering\, Arts\, and Mathematics (STrEaM)! \nThis educational and entertaining experience for the whole family includes free admission to the museum portion of INFINITY Science Center for the first 400 attendees on March 2nd and the first 200 attendees on March 3rd! \nEvent Highlights: \n\nHands-on STEM Demonstrations\nFree admission to the outdoor event\nRefreshments available for purchase\nArts and Crafts\nRecreational Activities for All Ages\n\nSpecial Guests: \n\nCowboy Ted and Friends (Salt Lake City\, UT)\nMan in the Sea Museum (Panama City Beach\, FL)\nEmerald Coast Science Center (Fort Walton Beach\, FL)\nAnd more!\n\nEvent Timing: \n\nMarch 2nd: 1:00 PM to 4:00 PM\nMarch 3rd: 9:00 AM to 12:00 PM\n\nLocation: 1 Discovery Cir\, Pearlington\, MS 39572 \nBrought to you by: INFINITY Science Center \nMade Possible by: The Joe W. and Dorothy Dorsett Brown Foundation \n  \nJoin us for a weekend of exploration\, discovery\, and fun!
URL:https://www.visitinfinity.com/event-info/streamin-the-coast/
LOCATION:INFINITY Science Center
ORGANIZER;CN="Alex Wenyon":MAILTO:awenyon@visitinfinity.com
END:VEVENT
BEGIN:VEVENT
DTSTART;TZID=UTC:20240303T090000
DTEND;TZID=UTC:20240303T120000
DTSTAMP:20260420T084429
CREATED:20240130T030039Z
LAST-MODIFIED:20240130T030151Z
UID:9116-1709456400-1709467200@www.visitinfinity.com
SUMMARY:STrEaM'in the Coast
DESCRIPTION:Get ready for the inaugural STrEaM’in the Coast: A Family-Friendly STEM Extravaganza! Join us for an engaging event where learning meets excitement in a vibrant block party atmosphere. Unleash curiosity in your kids and ignite a passion for STEM with our unique blend of Science\, Technology\, Recreation\, Engineering\, Arts\, and Mathematics (STrEaM)! \nThis educational and entertaining experience for the whole family includes free admission to the museum portion of INFINITY Science Center for the first 400 attendees on March 2nd and the first 200 attendees on March 3rd! \nEvent Highlights: \n\nHands-on STEM Demonstrations\nFree admission to the outdoor event\nRefreshments available for purchase\nArts and Crafts\nRecreational Activities for All Ages\n\nSpecial Guests: \n\nCowboy Ted and Friends (Salt Lake City\, UT)\nMan in the Sea Museum (Panama City Beach\, FL)\nEmerald Coast Science Center (Fort Walton Beach\, FL)\nAnd more!\n\nEvent Timing: \n\nMarch 2nd: 1:00 PM to 4:00 PM\nMarch 3rd: 9:00 AM to 12:00 PM\n\nLocation: 1 Discovery Cir\, Pearlington\, MS 39572 \nBrought to you by: INFINITY Science Center \nMade Possible by: The Joe W. and Dorothy Dorsett Brown Foundation \n  \nJoin us for a weekend of exploration\, discovery\, and fun!
URL:https://www.visitinfinity.com/event-info/streamin-the-coast-2/
LOCATION:INFINITY Science Center
ORGANIZER;CN="Alex Wenyon":MAILTO:awenyon@visitinfinity.com
END:VEVENT
END:VCALENDAR