BEGIN:VCALENDAR
VERSION:2.0
PRODID:-//The INFINITY Science Center - ECPv6.15.20//NONSGML v1.0//EN
CALSCALE:GREGORIAN
METHOD:PUBLISH
X-WR-CALNAME:The INFINITY Science Center
X-ORIGINAL-URL:https://www.visitinfinity.com
X-WR-CALDESC:Events for The INFINITY Science Center
REFRESH-INTERVAL;VALUE=DURATION:PT1H
X-Robots-Tag:noindex
X-PUBLISHED-TTL:PT1H
BEGIN:VTIMEZONE
TZID:UTC
BEGIN:STANDARD
TZOFFSETFROM:+0000
TZOFFSETTO:+0000
TZNAME:UTC
DTSTART:20230101T000000
END:STANDARD
END:VTIMEZONE
BEGIN:VEVENT
DTSTART;TZID=UTC:20240601T100000
DTEND;TZID=UTC:20240601T140000
DTSTAMP:20260420T033344
CREATED:20240318T235157Z
LAST-MODIFIED:20240318T235157Z
UID:9440-1717236000-1717250400@www.visitinfinity.com
SUMMARY:INFINIcon
DESCRIPTION:INFINIcon 2024\nJune 1\, 2024 10:00 A.M. to 2:00 P.M. \nJoin us for an unforgettable experience at INFINIcon 2024\, celebrating the realms of science\, sci-fi\, and fantasy at the INFINITY Science Center! Meet renowned rocket scientists\, explore our diverse array of vendors\, encounter robots\, and mingle with costumed characters. Expect the unexpected as you immerse yourself in a world where anything can happen. Food trucks will be on-site to satisfy your cravings. Feel free to come dressed in your favorite family-friendly costumes\, and let your imagination soar! \nAdmission: \n\nAdult (14-54): $15\nChild (4-10): $10\nSenior (55+): $13\nMilitary: $13\nFirst Responder: $13\nChild 3 and under: Free\nMembers: $9\n\nFor groups of 20 or more\, please contact ksmith@visitinfinity.com for special pricing and reservations. \nCostume Props Policy: \nTo ensure a safe and enjoyable experience for all attendees\, please adhere to the following guidelines: \n\nNo weapons or functional props are permitted at INFINIcon. All simulated or costume weapons must undergo inspection upon entry.\nCostume props and weapons must comply with state and federal law.\nProjectile costume props and weapons must be rendered inoperable.\nFunctional (real) arrows must have their tips removed and be bundled together\, then zip-tied to a quiver.\nCostume swords\, daggers\, staffs\, and/or sticks must be securely fastened to your costume to prevent them from being drawn.\nCostumes featuring stilts must receive approval at the ticket counter.\nINFINITY will not be held liable for any injuries or harm resulting from guest interactions with weapons or costumes.\n\nWe look forward to seeing you at INFINIcon 2024\, where imagination knows no bounds!
URL:https://www.visitinfinity.com/event-info/infinicon-2/
LOCATION:INFINITY Science Center
ORGANIZER;CN="Alex Wenyon":MAILTO:awenyon@visitinfinity.com
END:VEVENT
BEGIN:VEVENT
DTSTART;TZID=UTC:20240624T080000
DTEND;TZID=UTC:20240628T150000
DTSTAMP:20260420T033344
CREATED:20240318T221007Z
LAST-MODIFIED:20240318T221154Z
UID:9426-1719216000-1719586800@www.visitinfinity.com
SUMMARY:Astro Camp
DESCRIPTION:Astro Camp | JUNE 24-28\, FROM 8:00 A.M. TO 3:00 P.M.\nAGES 7 – 11  |  going into 2nd grade – going into 6th grade \nDiscover the unparalleled experience of Astro Camp at INFINITY Science Center! Our engaging environment\, led by expert staff\, provides the perfect setting for young minds to thrive. With an innovative curriculum integrating STEM principles and hands-on activities\, campers explore space exploration\, engineering\, robotics\, and more.  Aligned with NASA’s priorities\, our sessions offer insight into cutting-edge research and developments. By choosing Astro Camp at INFINITY\, you support our mission to inspire the next generation of scientists\, researchers\, and engineers\, making a lasting impact on our community and beyond. Join us for an unforgettable journey of discovery\, creativity\, and lifelong learning! \n\n\n\n\nAstro Camp strives to: \n\nInspire future generations to learn about space exploration and Science\, Technology\, Engineering\, and Mathematics\, developing pathways to STEM careers.\nPresent nationally aligned math and science principles through fun\, hands-on activities using the ASTRO CAMP® methodology.\nSpark students’ interest in learning the basics of engineering\, rocketry\, robotics\, and support NGSS alignments while having fun.\n\nBy tapping into the curious minds of our youngsters\, we are planting the seeds necessary to attract and retain students in STEM education. Astro Camp® is an important “stepping stone” in developing our future workforce! \nRegister: https://form.123formbuilder.com/6572436/2024-astro-camp-june-24-june-28 \n\nRegistration Closes June 10th
URL:https://www.visitinfinity.com/event-info/astro-camp-2/
LOCATION:INFINITY Science Center
ORGANIZER;CN="Donna Torres":MAILTO:dtorres@visitinfinity.com
END:VEVENT
BEGIN:VEVENT
DTSTART;TZID=UTC:20240624T080000
DTEND;TZID=UTC:20240628T150000
DTSTAMP:20260420T033344
CREATED:20240318T221728Z
LAST-MODIFIED:20240318T221728Z
UID:9434-1719216000-1719586800@www.visitinfinity.com
SUMMARY:Artemis Camp
DESCRIPTION:Artemis Camp | JUNE 24-28\, FROM 8:00 A.M. TO 3:00 P.M.\nAGES 12 – 15  |  going into 7th grade – going into 10th grade\n\n\n\n\n\n\nEmbark on an exhilarating journey with Artemis Camp at INFINITY Science Center! As we contemplate what it will take for humanity to return to the moon and reach even further to Mars\, our campers will explore the multifaceted world of space science and technology. From understanding the intricacies of space travel to delving into the realms of geology\, robotics\, chemistry\, computer technology\, and beyond\, Artemis campers will engage in a comprehensive exploration of the scientific disciplines crucial for future space exploration endeavors. Through daily hands-on activities and experiments\, participants will gain firsthand experience and insight into the challenges and opportunities awaiting future space explorers. Join us for an unforgettable adventure where curiosity meets discovery\, and the wonders of the cosmos await exploration! Register now for Artemis Camp and ignite your passion for space exploration and scientific discovery. \n\n\n\n\nArtemis Camp strives to: \n\nSpark a Passion for Space Exploration: Artemis Camp aims to inspire campers’ interest in space exploration through engaging activities and experiences.\nFoster Multidisciplinary Learning: The camp encourages exploration of various scientific fields such as geology\, robotics\, and computer technology\, fostering a holistic understanding of space science.\nEmpower Future Space Explorers: Artemis Camp seeks to empower campers to pursue STEM careers by providing hands-on experiences and insight into the skills needed for space exploration.\n\n\n\nRegister: https://form.123formbuilder.com/6296881/2024-artemis-camp-june-24-28 \n\nRegistration Closes June 10th
URL:https://www.visitinfinity.com/event-info/artemis-camp-3/
LOCATION:INFINITY Science Center
ORGANIZER;CN="Donna Torres":MAILTO:dtorres@visitinfinity.com
END:VEVENT
BEGIN:VEVENT
DTSTART;TZID=UTC:20240624T080000
DTEND;TZID=UTC:20240628T150000
DTSTAMP:20260420T033344
CREATED:20240318T222317Z
LAST-MODIFIED:20240318T222317Z
UID:9436-1719216000-1719586800@www.visitinfinity.com
SUMMARY:NEXUS Robotics Camp
DESCRIPTION:NEXUS Robotics Camp | JUNE 24-28\, FROM 8:00 A.M. TO 3:00 P.M.\nAGES 12 – 15  |  going into 7th grade – going into 10th grade\n\n\n\n\n\n\n\n\nImmerse yourself in the exciting world of robotics with NEXUS Robotics Camp at INFINITY Science Center! Solve real-world challenges and explore a diverse range of future career opportunities while learning how to code and build robots. Supported by the Stennis Naval Research Laboratories\, NEXUS 1 Robotics Camp offers an introductory experience to robotics\, focusing on naval robotics exploration and hands-on experimentation. Campers will tackle real-world challenges and develop solutions using remote-controlled robotics they code and create themselves. Join us for an unforgettable journey into the cutting-edge realm of robotics and unleash your potential for innovation and discovery! Register now to secure your spot at NEXUS Robotics Camp. \n\n\n\n\nNEXUS Robotics Camp strives to: \n\nCultivate Problem-Solving Skills: NEXUS Robotics Camp challenges campers to solve real-world problems using robotics\, fostering critical thinking and creativity.\nExplore Career Opportunities: The camp exposes campers to various career paths in robotics and STEM fields\, providing insight into potential future opportunities.\nProvide Hands-On Learning: NEXUS Robotics Camp emphasizes experiential learning through building and programming robots\, promoting a deeper understanding of robotics concepts and encouraging exploration of STEM interests.\n\n\n\nRegister: https://form.123formbuilder.com/6572434/2024-nexus-robotics-camp-june-24-28 \n\n\n\nRegistration Closes June 10th
URL:https://www.visitinfinity.com/event-info/nexus-robotics-camp/
LOCATION:INFINITY Science Center
ORGANIZER;CN="Donna Torres":MAILTO:dtorres@visitinfinity.com
END:VEVENT
BEGIN:VEVENT
DTSTART;TZID=UTC:20240628T173000
DTEND;TZID=UTC:20240628T190000
DTSTAMP:20260420T033344
CREATED:20240529T200852Z
LAST-MODIFIED:20240529T201042Z
UID:9730-1719595800-1719601200@www.visitinfinity.com
SUMMARY:Perception Unleashed: Exhibits Unveiling
DESCRIPTION:Join us as we unveil our latest exhibition: ‘Perception Unleashed: Beyond the Expected!’ Immerse yourself in new exhibits meticulously designed to expand your perception and challenge your senses. Be among the first to journey into the realms of virtual reality. RSVP today to secure your place at this extraordinary event! \nFriday\, June 28th  |  5:30 PM -7:00 PM  | At INFINITY Science Center \nThis is a MEMBERS-ONLY EVENT for those who hold memberships at INFINITY. For more information about memberships\, email ksmith@visitinfinity.com. \nThe new exhibits will be open to the public starting  June 29th!
URL:https://www.visitinfinity.com/event-info/perception-unleashed-exhibits-unveiling/
LOCATION:INFINITY Science Center
ATTACH;FMTTYPE=image/png:https://www.visitinfinity.com/wp-content/uploads/2024/05/NEW-EXHIBIS.png
ORGANIZER;CN="Alex Wenyon":MAILTO:awenyon@visitinfinity.com
END:VEVENT
BEGIN:VEVENT
DTSTART;TZID=UTC:20240629T130000
DTEND;TZID=UTC:20240629T150000
DTSTAMP:20260420T033344
CREATED:20240318T234447Z
LAST-MODIFIED:20240429T200847Z
UID:9438-1719666000-1719673200@www.visitinfinity.com
SUMMARY:INFINITY Independents + Acton Children’s Business Fair
DESCRIPTION:INFINITY Independents + Acton Children’s Business Fair\ninvites you to join us for our biannual Children’s Business Fair on June 29th\, 2024\, from 1:00 PM to 3:00 PM. \nThis one-day marketplace sparks the entrepreneurial spirit in children\, giving them the chance to showcase their own businesses and sell their products. If your child loves to create\, learn new skills\, and solve problems\, this event is perfect for them! Whether they’re selling lemonade\, bracelets\, artwork\, or anything else\, it’s an opportunity for them to shine. \nSign your kids up and come enjoy a day filled with youthful innovation and entrepreneurial excitement! \nApply
URL:https://www.visitinfinity.com/event-info/infinity-independents-acton-childrens-business-fair/
LOCATION:INFINITY Science Center
ORGANIZER;CN="Alex Wenyon":MAILTO:awenyon@visitinfinity.com
END:VEVENT
END:VCALENDAR