BEGIN:VCALENDAR
VERSION:2.0
PRODID:-//The INFINITY Science Center - ECPv6.15.20//NONSGML v1.0//EN
CALSCALE:GREGORIAN
METHOD:PUBLISH
X-WR-CALNAME:The INFINITY Science Center
X-ORIGINAL-URL:https://www.visitinfinity.com
X-WR-CALDESC:Events for The INFINITY Science Center
REFRESH-INTERVAL;VALUE=DURATION:PT1H
X-Robots-Tag:noindex
X-PUBLISHED-TTL:PT1H
BEGIN:VTIMEZONE
TZID:America/Chicago
BEGIN:DAYLIGHT
TZOFFSETFROM:-0600
TZOFFSETTO:-0500
TZNAME:CDT
DTSTART:20230312T080000
END:DAYLIGHT
BEGIN:STANDARD
TZOFFSETFROM:-0500
TZOFFSETTO:-0600
TZNAME:CST
DTSTART:20231105T070000
END:STANDARD
BEGIN:DAYLIGHT
TZOFFSETFROM:-0600
TZOFFSETTO:-0500
TZNAME:CDT
DTSTART:20240310T080000
END:DAYLIGHT
BEGIN:STANDARD
TZOFFSETFROM:-0500
TZOFFSETTO:-0600
TZNAME:CST
DTSTART:20241103T070000
END:STANDARD
BEGIN:DAYLIGHT
TZOFFSETFROM:-0600
TZOFFSETTO:-0500
TZNAME:CDT
DTSTART:20250309T080000
END:DAYLIGHT
BEGIN:STANDARD
TZOFFSETFROM:-0500
TZOFFSETTO:-0600
TZNAME:CST
DTSTART:20251102T070000
END:STANDARD
END:VTIMEZONE
BEGIN:VEVENT
DTSTART;TZID=America/Chicago:20240907T090000
DTEND;TZID=America/Chicago:20240907T090000
DTSTAMP:20260419T220300
CREATED:20240730T182036Z
LAST-MODIFIED:20240730T182115Z
UID:10529-1725699600-1725699600@www.visitinfinity.com
SUMMARY:Moon Lights the Way – ISC OUTREACH STEM
DESCRIPTION:Moon Lights the Way  – Sponsored by NASA TEAM II Community Anchor Grant\nExplore the moon and how it will guide the way to future space exploration. Led by INFINITY Science Center educators\, this two-hour\, hands-on program for families with children ages 7-11 includes engaging activities and informative content. September 7\, 2024\, 10:00AM – 12:00PM  |  Waveland Library \nContact your local library for registration information and hours. All sessions are free!
URL:https://www.visitinfinity.com/event-info/moon-lights-the-way-isc-outreach-stem-2/
LOCATION:Waveland Library\, 345 Coleman Ave\, Waveland\, MS\, 39576\, United States
ORGANIZER;CN="Donna Torres":MAILTO:dtorres@visitinfinity.com
END:VEVENT
BEGIN:VEVENT
DTSTART;TZID=America/Chicago:20240909T170000
DTEND;TZID=America/Chicago:20240909T190000
DTSTAMP:20260419T220300
CREATED:20240801T175037Z
LAST-MODIFIED:20240813T154157Z
UID:10573-1725901200-1725908400@www.visitinfinity.com
SUMMARY:INFINITY Remembers - Honoring Community Heroes
DESCRIPTION:INFINITY Remembers: Honoring Community Heroes \nJoin us for a special evening at INFINITY Science Center to honor our community heroes. Enjoy the museum at a discounted rate\, refreshments\, and special vendors selected just for our heroes. \nFree admission \n\nFirst responders\nMilitary personnel\nTeachers\n\nFamily and friends will receive a discounted rate of $10 per person. Children 3 and under are free. \nDate: September 9th\nTime: 5 PM – 7 PM
URL:https://www.visitinfinity.com/event-info/infinity-remembers-honoring-community-heroes/
LOCATION:INFINITY Science Center
ORGANIZER;CN="Donna Torres":MAILTO:dtorres@visitinfinity.com
END:VEVENT
BEGIN:VEVENT
DTSTART;TZID=America/Chicago:20240914T130000
DTEND;TZID=America/Chicago:20240914T150000
DTSTAMP:20260419T220300
CREATED:20240730T182732Z
LAST-MODIFIED:20240730T182732Z
UID:10532-1726318800-1726326000@www.visitinfinity.com
SUMMARY:Moon Lights the Way – ISC OUTREACH STEM
DESCRIPTION:Moon Lights the Way  – Sponsored by NASA TEAM II Community Anchor Grant\nExplore the moon and how it will guide the way to future space exploration. Led by INFINITY Science Center educators\, this two-hour\, hands-on program for families with children ages 7-11 includes engaging activities and informative content. September 14\, 2024\, 1:00PM – 3:00PM  |  Orange Grove Library \nContact your local library for registration information. All sessions are free!
URL:https://www.visitinfinity.com/event-info/moon-lights-the-way-isc-outreach-stem-3/
LOCATION:Orange Grove Library\, 12135 Old Hwy 49\, Gulfport\, MS\, 39503\, United States
ORGANIZER;CN="Donna Torres":MAILTO:dtorres@visitinfinity.com
END:VEVENT
END:VCALENDAR