BEGIN:VCALENDAR
VERSION:2.0
PRODID:-//The INFINITY Science Center - ECPv6.15.20//NONSGML v1.0//EN
CALSCALE:GREGORIAN
METHOD:PUBLISH
X-ORIGINAL-URL:https://www.visitinfinity.com
X-WR-CALDESC:Events for The INFINITY Science Center
REFRESH-INTERVAL;VALUE=DURATION:PT1H
X-Robots-Tag:noindex
X-PUBLISHED-TTL:PT1H
BEGIN:VTIMEZONE
TZID:America/Chicago
BEGIN:DAYLIGHT
TZOFFSETFROM:-0600
TZOFFSETTO:-0500
TZNAME:CDT
DTSTART:20240310T080000
END:DAYLIGHT
BEGIN:STANDARD
TZOFFSETFROM:-0500
TZOFFSETTO:-0600
TZNAME:CST
DTSTART:20241103T070000
END:STANDARD
BEGIN:DAYLIGHT
TZOFFSETFROM:-0600
TZOFFSETTO:-0500
TZNAME:CDT
DTSTART:20250309T080000
END:DAYLIGHT
BEGIN:STANDARD
TZOFFSETFROM:-0500
TZOFFSETTO:-0600
TZNAME:CST
DTSTART:20251102T070000
END:STANDARD
BEGIN:DAYLIGHT
TZOFFSETFROM:-0600
TZOFFSETTO:-0500
TZNAME:CDT
DTSTART:20260308T080000
END:DAYLIGHT
BEGIN:STANDARD
TZOFFSETFROM:-0500
TZOFFSETTO:-0600
TZNAME:CST
DTSTART:20261101T070000
END:STANDARD
END:VTIMEZONE
BEGIN:VEVENT
DTSTART;TZID=America/Chicago:20250108T090000
DTEND;TZID=America/Chicago:20250108T120000
DTSTAMP:20260419T143448
CREATED:20240730T143824Z
LAST-MODIFIED:20241203T145449Z
UID:10496-1736326800-1736337600@www.visitinfinity.com
SUMMARY:HomeSchool Wednesday - Galileo\, Goddard\, Von Braun
DESCRIPTION:Explore our engaging and educational HomeSchool Wednesdays for the 2024/25 school year! Each session is designed to offer hands-on STEM learning experiences that captivate and inspire young minds! \nJanuary 8\, 2025\, 9:00 a.m. to 12:00 p.m.: Galileo\, Goddard\, Von Braun. Uncover the achievements of Galileo Galilei\, Robert H. Goddard\, and Wernher von Braun. Delve into their contributions to astronomy\, rocketry\, and space exploration. \nLab Information: STAR LAB  –  Home School Wednesday Learning Lab  |  Age Group: 12–15 years old  |   Curriculum: PHYSICSQUEST \nSession Overview: \n\nLesson Focus: Explore the fascinating world of plasma\, its properties\, and its role in star formation.\nKey Question: Can star energy be harnessed to create clean energy on Earth?\nDuration: 45 minutes – Start Time: 10:00 a.m. (Please arrive on time!)\n\nRegistration Link: https://form.jotform.com/243304532733147 \n  \nJoin us for an exciting hands-on exploration of physics and astronomy! \n  \nCheck out the other HomeSchool Wednesdays for 2024/25!
URL:https://www.visitinfinity.com/event-info/homeschool-wednesday-galileo-goddard-von-braun/
LOCATION:INFINITY Science Center
CATEGORIES:HomeSchool Wednesday
ORGANIZER;CN="Donna Torres":MAILTO:dtorres@visitinfinity.com
END:VEVENT
BEGIN:VEVENT
DTSTART;TZID=America/Chicago:20250113T150000
DTEND;TZID=America/Chicago:20250113T170000
DTSTAMP:20260419T143448
CREATED:20240730T185101Z
LAST-MODIFIED:20240730T185101Z
UID:10543-1736780400-1736787600@www.visitinfinity.com
SUMMARY:Moon Lights the Way – ISC OUTREACH STEM
DESCRIPTION:Moon Lights the Way  – Sponsored by NASA TEAM II Community Anchor Grant\nExplore the moon and how it will guide the way to future space exploration. Led by INFINITY Science Center educators\, this two-hour\, hands-on program for families with children ages 7-11 includes engaging activities and informative content. January 13\, 2025\, 3:00PM – 5:00PM  |  Saucier Children’s Library \nContact your local library for registration information and hours. All sessions are free!
URL:https://www.visitinfinity.com/event-info/moon-lights-the-way-isc-outreach-stem-7/
LOCATION:Saucier Children’s Library\, 24014 Church Ave\, Saucier\, MS\, 39574\, United States
ORGANIZER;CN="Donna Torres":MAILTO:dtorres@visitinfinity.com
END:VEVENT
BEGIN:VEVENT
DTSTART;TZID=America/Chicago:20250118T080000
DTEND;TZID=America/Chicago:20250118T130000
DTSTAMP:20260419T143448
CREATED:20241203T151040Z
LAST-MODIFIED:20241203T151040Z
UID:11326-1737187200-1737205200@www.visitinfinity.com
SUMMARY:Teacher Professional Development - Workshop
DESCRIPTION:Physics and Space-Themed STEM Demonstration Techniques for the Classroom \nDate: January 18\, 2025\nTime: 8:00 a.m. – 1:00 p.m. \nJoin us for an exciting professional development workshop where you will learn to engage students with thrilling physics and solar system science demonstrations. This session will provide effective practices and techniques to bring these captivating topics to life in your classroom. Our INFINITY educators will guide you through each activity\, allowing you to practice and refine your skills. You’ll leave with new tools\, resources\, and activities to inspire your students and spark their curiosity about the universe.\nFREE\, only pay CEU transcript fee of $20. \nEach workshop offers .5 CEUs and is free for educators. Don’t miss these opportunities to enhance your teaching skills and bring innovative STEM activities to your classroom. \nContact Donna Torres at dtorres@visitinfinity.com or call 228-533-9025 ext. 323 with any questions. \nClick here to register!
URL:https://www.visitinfinity.com/event-info/teacher-professional-development-workshop/
LOCATION:INFINITY Science Center
ORGANIZER;CN="Donna Torres":MAILTO:dtorres@visitinfinity.com
END:VEVENT
BEGIN:VEVENT
DTSTART;TZID=America/Chicago:20250118T090000
DTEND;TZID=America/Chicago:20250118T120000
DTSTAMP:20260419T143448
CREATED:20241205T154017Z
LAST-MODIFIED:20241205T154017Z
UID:11380-1737190800-1737201600@www.visitinfinity.com
SUMMARY:Scouts in Space - 2025
DESCRIPTION:INFINITY Science Center presents: Scouts in Space! Scouts are invited to blast off into the unknown on January 18\, 2025\, from 9:00 A.M. to 12:00 P.M. All ages and levels of scouts are welcome to join us for this exciting event exploring the cosmos. \nAdmission: \n\nGeneral Admission: $15\nChildren 5 and under: Free\nMilitary/First Responders\, Seniors (65+): $10\nGroup Admission 20+: $10\n\nActivities: \n\nPop Rockets: Launch your own rocket and learn about the principles of flight.\nCreate a Planet: Design and build your own planet.\nSecret Messages: Discover how to send and decode secret messages.\nBicycle Wheel Gyroscope: Explore the science of gyroscopes and how they are used in space.\nApollo History Walk: Join us for a guided tour of the Apollo Booster.\n\nJoin us for a day filled with fun\, learning\, and exploration. We look forward to seeing you there!
URL:https://www.visitinfinity.com/event-info/scouts-in-space-2025/
LOCATION:INFINITY Science Center
ORGANIZER;CN="Donna Torres":MAILTO:dtorres@visitinfinity.com
END:VEVENT
END:VCALENDAR