BEGIN:VCALENDAR
VERSION:2.0
PRODID:-//The INFINITY Science Center - ECPv6.15.20//NONSGML v1.0//EN
CALSCALE:GREGORIAN
METHOD:PUBLISH
X-ORIGINAL-URL:https://www.visitinfinity.com
X-WR-CALDESC:Events for The INFINITY Science Center
REFRESH-INTERVAL;VALUE=DURATION:PT1H
X-Robots-Tag:noindex
X-PUBLISHED-TTL:PT1H
BEGIN:VTIMEZONE
TZID:America/Chicago
BEGIN:DAYLIGHT
TZOFFSETFROM:-0600
TZOFFSETTO:-0500
TZNAME:CDT
DTSTART:20240310T080000
END:DAYLIGHT
BEGIN:STANDARD
TZOFFSETFROM:-0500
TZOFFSETTO:-0600
TZNAME:CST
DTSTART:20241103T070000
END:STANDARD
BEGIN:DAYLIGHT
TZOFFSETFROM:-0600
TZOFFSETTO:-0500
TZNAME:CDT
DTSTART:20250309T080000
END:DAYLIGHT
BEGIN:STANDARD
TZOFFSETFROM:-0500
TZOFFSETTO:-0600
TZNAME:CST
DTSTART:20251102T070000
END:STANDARD
BEGIN:DAYLIGHT
TZOFFSETFROM:-0600
TZOFFSETTO:-0500
TZNAME:CDT
DTSTART:20260308T080000
END:DAYLIGHT
BEGIN:STANDARD
TZOFFSETFROM:-0500
TZOFFSETTO:-0600
TZNAME:CST
DTSTART:20261101T070000
END:STANDARD
END:VTIMEZONE
BEGIN:VEVENT
DTSTART;TZID=America/Chicago:20250201T100000
DTEND;TZID=America/Chicago:20250201T100000
DTSTAMP:20260419T124332
CREATED:20240730T185543Z
LAST-MODIFIED:20240730T185638Z
UID:10546-1738404000-1738404000@www.visitinfinity.com
SUMMARY:Moon Lights the Way – ISC OUTREACH STEM
DESCRIPTION:Moon Lights the Way  – Sponsored by NASA TEAM II Community Anchor Grant\nExplore the moon and how it will guide the way to future space exploration. Led by INFINITY Science Center educators\, this two-hour\, hands-on program for families with children ages 7-11 includes engaging activities and informative content. February 1\, 2025\, 10:00aM – 12:00PM  |  Pearlington Library \nContact your local library for registration information. All sessions are free!
URL:https://www.visitinfinity.com/event-info/moon-lights-the-way-isc-outreach-stem-8/
LOCATION:Pearlington Library\, 6096 1st Ave\, Pearlington\, MS\, 39572\, United States
ORGANIZER;CN="Donna Torres":MAILTO:dtorres@visitinfinity.com
END:VEVENT
BEGIN:VEVENT
DTSTART;TZID=America/Chicago:20250222T080000
DTEND;TZID=America/Chicago:20250222T130000
DTSTAMP:20260419T124332
CREATED:20241203T151320Z
LAST-MODIFIED:20241203T151320Z
UID:11331-1740211200-1740229200@www.visitinfinity.com
SUMMARY:Teacher Professional Development – Workshop
DESCRIPTION:General STEM Demonstration Techniques for the Classroom \nDate: February 22\, 2025\nTime: 8:00 a.m. – 1:00 p.m. \nThis workshop offers educators the opportunity to explore engaging practices for teaching electricity\, forces in motion\, and environmental conservation concepts. Learn how to captivate students’ curiosity with hands-on STEM activities. INFINITY educators will walk you through the science and techniques behind each demonstration\, providing ample time for practice. You’ll gain new insights\, resources\, and activities that can be directly applied in your classroom to make learning both fun and informative.\nFREE\, only pay CEU transcript fee of $20. \nEach workshop offers .5 CEUs and is free for educators. Don’t miss these opportunities to enhance your teaching skills and bring innovative STEM activities to your classroom. \nContact Donna Torres at dtorres@visitinfinity.com or call 228-533-9025 ext. 323 with any questions. \nClick here to register!
URL:https://www.visitinfinity.com/event-info/teacher-professional-development-workshop-2/
LOCATION:INFINITY Science Center
ORGANIZER;CN="Donna Torres":MAILTO:dtorres@visitinfinity.com
END:VEVENT
BEGIN:VEVENT
DTSTART;TZID=America/Chicago:20250222T090000
DTEND;TZID=America/Chicago:20250222T120000
DTSTAMP:20260419T124332
CREATED:20250103T150454Z
LAST-MODIFIED:20250129T155838Z
UID:11591-1740214800-1740225600@www.visitinfinity.com
SUMMARY:STEM FEST
DESCRIPTION:Experience the Wonders of STEM at INFINITY Science Center! \nEver dreamed of exploring the INFINITY Science Center? Here’s your chance to bring family and friends for an exciting\, hands-on STEM adventure! \nJoin us for STEMFEST\n🗓 When: Saturday\, February 22\, 2025\n📍 Where: INFINITY Science Center \nDive into the fascinating worlds of Science\, Technology\, Engineering\, and Math with interactive activities and meet the experts who bring STEM to life every day. \n🌟 Admission is FREE for all ages! Most arrive during the event to receive free admission. \nThis incredible event is made possible through the support of a NASA TEAMS II Community Anchor Grant. \nDon’t miss out on this unforgettable day of discovery and inspiration—mark your calendars now! \n\n  \nSpecial Feature: Girls in Engineering – Experience Lab \nLater that day\, we will be hosting the Girls in Engineering: Experience Lab\, specially designed for girls ages 7-17. Participants will collaborate with our educators to take on an exciting\, hands-on engineering challenge using the Engineering Design Process. \n🔗 Register now: Girls in Engineering: Experience Lab Registration \nDon’t miss this incredible opportunity to learn\, create\, and have fun!
URL:https://www.visitinfinity.com/event-info/stem-fest-2/
LOCATION:INFINITY Science Center
ORGANIZER;CN="Donna Torres":MAILTO:dtorres@visitinfinity.com
END:VEVENT
BEGIN:VEVENT
DTSTART;TZID=America/Chicago:20250222T130000
DTEND;TZID=America/Chicago:20250222T150000
DTSTAMP:20260419T124332
CREATED:20250103T151852Z
LAST-MODIFIED:20250103T151852Z
UID:11596-1740229200-1740236400@www.visitinfinity.com
SUMMARY:Girls in Engineering: Experience Lab
DESCRIPTION:🚀 Discover the Engineer in You! \nJoin us at the INFINITY Science Center for an exciting hands-on lab where participants will tackle an engineering challenge guided by our expert educators. Using the Engineering Design Process\, participants will brainstorm\, design\, and create solutions to real-world problems. \nDetails:\n👧 Who: Girls ages 7-17\n📅 When: Saturday\, February 22\, 2024\n📍 Where: INFINITY Science Center \n  \nSpecial Offer: Arrive between 9 a.m. and Noon to enjoy free admission to INFINITY Science Center as part of STEMFEST! Regular admission rates apply for arrivals after noon. \n💡 Cost: Lab fee does not include admission. \n🔗 Register now: Girls in Engineering: Experience Lab Registration \nDon’t miss this chance to ignite your curiosity and unleash your inner engineer!
URL:https://www.visitinfinity.com/event-info/girls-in-engineering-experience-lab/
LOCATION:INFINITY Science Center
ORGANIZER;CN="Donna Torres":MAILTO:dtorres@visitinfinity.com
END:VEVENT
END:VCALENDAR