BEGIN:VCALENDAR
VERSION:2.0
PRODID:-//The INFINITY Science Center - ECPv6.15.20//NONSGML v1.0//EN
CALSCALE:GREGORIAN
METHOD:PUBLISH
X-ORIGINAL-URL:https://www.visitinfinity.com
X-WR-CALDESC:Events for The INFINITY Science Center
REFRESH-INTERVAL;VALUE=DURATION:PT1H
X-Robots-Tag:noindex
X-PUBLISHED-TTL:PT1H
BEGIN:VTIMEZONE
TZID:America/Chicago
BEGIN:DAYLIGHT
TZOFFSETFROM:-0600
TZOFFSETTO:-0500
TZNAME:CDT
DTSTART:20240310T080000
END:DAYLIGHT
BEGIN:STANDARD
TZOFFSETFROM:-0500
TZOFFSETTO:-0600
TZNAME:CST
DTSTART:20241103T070000
END:STANDARD
BEGIN:DAYLIGHT
TZOFFSETFROM:-0600
TZOFFSETTO:-0500
TZNAME:CDT
DTSTART:20250309T080000
END:DAYLIGHT
BEGIN:STANDARD
TZOFFSETFROM:-0500
TZOFFSETTO:-0600
TZNAME:CST
DTSTART:20251102T070000
END:STANDARD
BEGIN:DAYLIGHT
TZOFFSETFROM:-0600
TZOFFSETTO:-0500
TZNAME:CDT
DTSTART:20260308T080000
END:DAYLIGHT
BEGIN:STANDARD
TZOFFSETFROM:-0500
TZOFFSETTO:-0600
TZNAME:CST
DTSTART:20261101T070000
END:STANDARD
END:VTIMEZONE
BEGIN:VEVENT
DTSTART;TZID=America/Chicago:20250523T090000
DTEND;TZID=America/Chicago:20250523T160000
DTSTAMP:20260419T071424
CREATED:20250516T153920Z
LAST-MODIFIED:20250516T153920Z
UID:14470-1747990800-1748016000@www.visitinfinity.com
SUMMARY:Special Talk with Rachel Tillman — Inventor\, Space Historian\, and Writer!
DESCRIPTION:Join us on May 23rd for a special sit-down talk with inventor\, space historian\, and writer Rachel Tillman. \nSpend the day blasting off into history\, science\, and space exploration — experience the feeling of a rocket test firing with our Engine Test Simulator\, learn who helped save Apollo 13 in our Fred Haise Gallery\, and discover the story of VIKING\, the first mission to Mars. \n\nFree with paid admission\nTalks held throughout the day from 9 AM to 4 PM
URL:https://www.visitinfinity.com/event-info/special-talk-with-rachel-tillman-inventor-space-historian-and-writer/
LOCATION:INFINITY Science Center
END:VEVENT
END:VCALENDAR